Workbook

Sheet Receipts
C1: GREAT HOUGHTON PARISH COUNCIL | F1: CASH BOOK - RECEIPTS
A2: Check
A3: (should be | B3: Date | C3: Name | D3: Ref | E3: Details | F3: Total | G3: Precept | H3: Grants | I3: S106 | J3: Insurance | K3: Advertising | L3: MAPC | M3: Bank | N3: VAT | O3: Other
A4: nil) | F4: Receipts | J4: Claims | L4: Refund | M4: Interest | N4: Refund
A5: =+F5-SUM(G5:O5) -> 0 | F5: =SUM(F6:F49) -> 18588.69 | G5: =SUM(G6:G42) -> 13750 | H5: =SUM(H6:H42) -> 550 | I5: =SUM(I6:I242) -> 0 | J5: =SUM(J6:J242) -> 3049.66 | K5: =SUM(K6:K42) -> 0 | L5: =SUM(L6:L42) -> 0 | M5: =SUM(M6:M42) -> 0 | N5: =SUM(N6:N42) -> 1223.11 | O5: =SUM(O6:O42) -> 15.92
A6: April | B6: 13750 | C6: GHPFA | D6: Transfer | E6: Insurance repayment | F6: =SUM(G6:O6) -> 3049.66 | J6: 3049.66
A7: 0 | B7: 46134 | C7: WNC Finance | D7: Transfer | E7: Grass Cutting Grant | F7: =SUM(G7:O7) -> 550 | H7: 550
A8: =+#REF!-SUM(#REF!) -> #REF! | B8: 46141 | C8: WNC Finance | D8: Transfer | E8: Precept | F8: =SUM(G8:O8) -> 13750 | G8: 13750
B9: 46216 | C9: Nat Grid | D9: Cheque | E9: Wayleave | F9: =SUM(G9:O9) -> 15.92 | O9: 15.92
B10: 46226 | C10: HMRC | D10: Transfer | E10: VAT Refund | F10: =SUM(G10:O10) -> 1223.11 | N10: 1223.11
A11: =+F11-SUM(G11:O11) -> 0 | F11: =SUM(G11:O11) -> 0
F12: =SUM(G12:O12) -> 0
A13: =+F7-SUM(G7:O7) -> 0 | F13: =SUM(G13:O13) -> 0
F14: =SUM(G14:O14) -> 0
A15: =+F8-SUM(G8:O8) -> 0 | F15: =SUM(G15:O15) -> 0
A16: =+F16-SUM(G16:O16) -> 0 | F16: =SUM(G16:O16) -> 0
A18: =+F18-SUM(G18:O18) -> 0 | F18: =SUM(G18:O18) -> 0
A19: =+F19-SUM(G19:O19) -> 0 | F19: =SUM(G19:O19) -> 0
A20: =+F20-SUM(G20:O20) -> 0 | F20: =SUM(G20:O20) -> 0
A21: =+F21-SUM(G21:O21) -> 0 | F21: =SUM(G21:O21) -> 0
A22: =+F22-SUM(G22:O22) -> 0 | F22: =SUM(G22:O22) -> 0
A23: =+F23-SUM(G23:O23) -> 0 | F23: =SUM(G23:O23) -> 0
A24: =+F24-SUM(G24:O24) -> 0 | F24: =SUM(G24:O24) -> 0
A25: =+F25-SUM(G25:O25) -> 0 | F25: =SUM(G25:O25) -> 0
A26: =+F26-SUM(G26:O26) -> 0 | F26: =SUM(G26:O26) -> 0
A27: =+F27-SUM(G27:O27) -> 0 | F27: =SUM(G27:O27) -> 0
A28: =+F28-SUM(G28:O28) -> 0 | F28: =SUM(G28:O28) -> 0
... A33: =+F33-SUM(G33:O33) -> 0 | F33: =SUM(G33:O33) -> 0
F34: =SUM(G34:O34) -> 0
A35: =+F35-SUM(G35:O35) -> 0 | F35: =SUM(G35:O35) -> 0
A36: =+F36-SUM(G36:O36) -> 0 | F36: =SUM(G36:O36) -> 0
A37: =+F37-SUM(G37:O37) -> 0 | F37: =SUM(G37:O37) -> 0
A38: =+F38-SUM(G38:O38) -> 0 | F38: =SUM(G38:O38) -> 0
A39: =+F39-SUM(G39:O39) -> 0 | F39: =SUM(G39:O39) -> 0
A40: =+F40-SUM(G40:O40) -> 0 | F40: =SUM(G40:O40) -> 0
A41: =+F41-SUM(G41:O41) -> 0 | F41: =SUM(G41:O41) -> 0
A42: =+F42-SUM(G42:O42) -> 0 | F42: =SUM(G42:O42) -> 0
A43: =+F43-SUM(G43:O43) -> 0 | F43: =SUM(G43:O43) -> 0
A44: =+F44-SUM(G44:O44) -> 0 | F44: =SUM(G44:O44) -> 0
A45: =+F45-SUM(G45:O45) -> 0 | F45: =SUM(G45:O45) -> 0
...

Sheet Payments
B1: GREAT HOUGHTON PARISH COUNCIL | F1: CASH BOOK - PAYMENTS
A3: Date | C3: Name | D3: Ref | E3: Details | F3: Total | H3: Village Maintenance | K3: Pocket Park | L3: Church Clock | M3: Village Hall | O3: S 137 Donations | Q3: Administration
F4: Payments | G4: VAT | H4: Mowing | I4: Dog bin emptying | J4: Other | K4: Maint | L4: Maintenance | M4: Replacement | N4: Loan repayment | O4: Poppy Wreath | P4: Other | Q4: Clerk Salary | R4: Clerk Expenses | S4: Travel Mileage | T4: Cllrs Expenses | U4: Chairman Expenses | V4: Insurance | W4: Stationery & Postage | X4: Telephone | Y4: Audit Costs | Z4: Website | AA4: New/ Replace Equipment | AB4: PAYE | AC4: Training | AD4: Hall rental | AE4: Professional fees | AF4: Subscriptions | AG4: Parish news printing | AH4: Village Hopper | AI4: Other Costs
AB5: O/L Rebate
A6: 2026/2027 | F6: =SUM(G6:AI6) -> 9379.4 | G6: =SUM(G7:G220) -> 619.53 | H6: =SUM(H7:H220) -> 2500 | I6: =SUM(I7:I220) -> 0 | J6: =SUM(J7:J220) -> 433.41 | K6: =SUM(K7:K220) -> 0 | L6: =SUM(L7:L220) -> 0 | M6: =SUM(M7:M220) -> 0 | N6: =SUM(N7:N220) -> 0 | ... AI6: =SUM(AI7:AI220) -> 0
A7: April | B7: 7 | C7: Post Office | D7: Card | E7: Stamps | F7: =SUM(G7:AI7) -> 13.92 | W7: 13.92
B8: 7 | C8: Amazon | D8: Card | E8: 30 MPH signs | F8: =SUM(G8:AI8) -> 119.54 | G8: 19.94 | J8: 99.6
B9: 17 | C9: Amazon | D9: Card | E9: folders & dividers | F9: =SUM(G9:AI9) -> 16.98 | G9: 2.84 | W9: 14.14
B10: 20 | C10: Amazon | D10: Card | E10: Subscription | F10: =SUM(G10:AI10) -> 8.99 | AF10: 8.99
B11: 22 | C11: Parish Clerk | D11: T00510 | E11: Salary | F11: =SUM(G11:AI11) -> 314.4 | Q11: 314.4
B12: 22 | C12: HMRC | D12: T00511 | E12: PAYE | F12: =SUM(G12:AI12) -> 184.2 | AB12: 184.2
B13: 22 | C13: Rogers Quickprint | D13: T00512 | E13: Parish News | F13: =SUM(G13:AI13) -> 297 | AG13: 297
B14: 22 | C14: HGM | D14: T00513 | E14: Maintenance (1094) | F14: =SUM(G14:AI14) -> 300 | G14: 50 | H14: 250
B15: 22 | C15: NCALC | D15: T00514 | E15: Membership | F15: =SUM(G15:AI15) -> 800.8 | G15: 63.55 | AF15: 737.25
B16: 22 | C16: S Barham | D16: T00515 | E16: Flower Box | F16: =SUM(G16:AI16) -> 23.09 | J16: 23.09
B17: 22 | C17: CTL Services | D17: T00516 | E17: Light Kiosk | F17: =SUM(G17:AI17) -> 185 | J17: 185
B18: 22 | C18: HGM | D18: T00517 | E18: Maintenance (1078) | F18: =SUM(G18:AI18) -> 300 | G18: 50 | H18: 250
B19: 22 | C19: Parish Clerk | D19: T00518 | E19: Expenses | F19: =SUM(G19:AI19) -> 49.17 | R19: 26 | W19: 13.92 | X19: 9.25
A20: May | B20: 19 | C20: Amazon | D20: Card | E20: Subscription | F20: =SUM(G20:AI20) -> 8.99 | AF20: 8.99
B21: 20 | C21: Parish Clerk | D21: T00519 | E21: Salary | F21: =SUM(G21:AI21) -> 314.2 | Q21: 314.2
B22: 20 | C22: HMRC | D22: T00520 | E22: PAYE | F22: =SUM(G22:AI22) -> 184.4 | AB22: 184.4
B23: 20 | C23: HGM | D23: T00521 | E23: Maintenance (1127) | F23: =SUM(G23:AI23) -> 300 | G23: 50 | H23: 250
B24: 20 | C24: HGM | D24: T00522 | E24: Maintenance (1110) | F24: =SUM(G24:AI24) -> 300 | G24: 50 | H24: 250
B25: 20 | C25: Curtis Website | D25: T00523 | E25: Website | F25: =SUM(G25:AI25) -> 60 | Z25: 60
B26: 20 | C26: SLCC | D26: T00524 | E26: Membership | F26: =SUM(G26:AI26) -> 116 | AF26: 116
B27: 20 | C27: CPRE | D27: T00525 | E27: Membership | F27: =SUM(G27:AI27) -> 36 | AF27: 36
B28: 20 | C28: Parish Clerk | D28: T00526 | E28: Expenses | F28: =SUM(G28:AI28) -> 36.38 | R28: 26 | X28: 10.38
A29: June | B29: 8 | C29: Amazon | D29: Card | E29: Folder | F29: =SUM(G29:AI29) -> 13.99 | G29: 2.33 | W29: 11.66
B30: 16 | C30: Parish Clerk | D30: T00527 | E30: Salary | F30: =SUM(G30:AI30) -> 425.52 | Q30: 425.52
B31: 16 | C31: HMRC | D31: T00528 | E31: PAYE | F31: =SUM(G31:AI31) -> 153 | AB31: 153
B32: 16 | C32: HMRC | D32: T00529 | E32: PAYE | F32: =SUM(G32:AI32) -> 19.8 | AB32: 19.8
B33: 16 | C33: Rogers Quickprint | D33: T00530 | E33: Parish News | F33: =SUM(G33:AI33) -> 322 | AG33: 322
B34: 16 | C34: Rogers Quickprint | D34: T00531 | E34: Survey | F34: =SUM(G34:AI34) -> 224 | W34: 224
B35: 16 | C35: HGM | D35: T00532 | E35: Maintenance (1147) | F35: =SUM(G35:AI35) -> 300 | G35: 50 | H35: 250
B36: 16 | C36: HGM | D36: T00533 | E36: Maintenance (1162) | F36: =SUM(G36:AI36) -> 300 | G36: 50 | H36: 250
B37: 16 | C37: C Humphrey | D37: T00534 | E37: Distribution | F37: =SUM(G37:AI37) -> 60 | W37: 30 | AG37: 30
B38: 16 | C38: NCALC | D38: T00535 | E38: Training | F38: =SUM(G38:AI38) -> 42 | G38: 7 | AC38: 35
B39: 16 | C39: AC Print | D39: T00536 | E39: Parish News | F39: =SUM(G39:AI39) -> 350 | AG39: 350
B40: 16 | C40: Parish Clerk | D40: T00537 | E40: Expenses | F40: =SUM(G40:AI40) -> 36.38 | R40: 26 | X40: 10.38
B41: 19 | C41: Amazon | D41: Card | E41: Subscription | F41: =SUM(G41:AI41) -> 8.99 | AF41: 8.99
...

Sheet Deposit

Sheet Summary
A1: GREAT HOUGHTON PARISH COUNCIL
A2: 2026/2027 RECEIPTS AND PAYMENTS ACCOUNT TO | K2: 46265
A4: ACTUAL | I4: ACTUAL | K4: DRAFT
A5: 2025/2026 | I5: TO DATE | K5: BUDGET
I6: 2026/2027 | K6: 2026/2027
A7: £ | B7: RECEIPTS | I7: £ | K7: £
A8: 27500 | C8: Precept | I8: =Receipts!G5 -> 13750 | K8: 27500
A9: 565.99 | C9: Grants/S106 | I9: =Receipts!H5 -> 550 | K9: 500
A10: 0 | C10: Insurance claims | I10: =Receipts!J5 -> 3049.66 | K10: 0
A11: 0 | C11: Bank interest | I11: =Receipts!M5+Deposit!H5 -> 0 | K11: 0
A12: 755 | C12: Advertising for Village Magazine | I12: =Receipts!K5 -> 0 | K12: 300
A13: 10.56 | C13: MAPC Refund | I13: =SUM(Receipts!L5) -> 0 | K13: 1500
A14: 2158.94 | C14: VAT claims | I14: =Receipts!N5 -> 1223.11 | K14: 0
A15: 110.89 | C15: Other | I15: =Receipts!O5 -> 15.92 | K15: 29800
A16: =SUM(A8:A15) -> 31101.38 | C16: Total receipts | I16: =SUM(I8:I15) -> 18588.69 | K16: =SUM(K8:K15) -> 59600
B18: PAYMENTS
C19: Village Maintenance | K19: 5000
A20: 4000 | D20: Mowing | I20: =Payments!H6 -> 2500 | K20: 1000
A21: 0 | D21: Dog Bin Emptying | I21: =Payments!I6 -> 0 | K21: 10000
A22: 52.88 | D22: Other | I22: =Payments!J6 -> 433.41 | K22: 16000
A23: =SUM(A20:A22) -> 4052.88 | I23: =SUM(I20:I22) -> 2933.41 | K23: =SUM(K20:K22) -> 27000
C24: Pocket Park Maintenance
A25: 610 | D25: Maintenance | I25: =+Payments!K6 -> 0 | K25: 100
A26: =SUM(A25) -> 610 | I26: =SUM(I25:I25) -> 0 | K26: =SUM(K25:K25) -> 100
C27: Church Clock
A28: 295 | D28: Maintenance | I28: =+Payments!L6 -> 0 | K28: 250
A29: =SUM(A28) -> 295 | I29: =SUM(I28:I28) -> 0 | K29: =SUM(K28:K28) -> 250
C30: Village Hall
A31: 0 | D31: Replacement | I31: =+Payments!M6 -> 0 | K31: 2000
A32: 0 | D32: Loan repayment | I32: =+Payments!N6 -> 0 | K32: 2000
A33: =SUM(A31:A32) -> 0 | I33: =SUM(I31:I32) -> 0 | K33: =SUM(K31:K32) -> 4000
C34: Grants & Donations | F34: (under s137, Local Government Act 1972)
E35: maximum this year £ | F35: 11.60 x 502 = £67549.12
A36: 0 | D36: Royal British Legion Remembrance Day appeal | I36: =+Payments!O6 -> 0 | K36: 100
A37: 100 | D37: Other (electorate discretion) | I37: =+Payments!P6 -> 0 | K37: 4427
A38: =SUM(A36:A37) -> 100 | I38: =SUM(I36:I37) -> 0 | K38: =SUM(K36:K37) -> 4527
C40: Administration
A41: 3509.14 | D41: Clerk | I41: =+Payments!Q6 -> 1682.92 | K41: 5000
A42: 321.25 | D42: Expenses | I42: =Payments!R6 -> 130 | K42: 200
A43: 0 | D43: Cllrs expenses | I43: =+Payments!T6 -> 0 | K43: 300
...

Sheet Sig Variance
C1: GREAT HOUGHTON PARISH COUNCIL | H1: SIGNIFICANT VARIANCES 2018/2019 - To be entered at end of financial year
A3: Box number | B3: This Year | C3: Last Year | D3: Difference | G3: Explanation of Variance
B4: £ | C4: £ | D4: £ | E4: %
A8: 3) Other receipts
A11: 4) Staff costs
A14: 6) Other payments
A19: 9) Fixed assets
A21: 8) Level of bank balances

Sheet Bank Reconciliation
B1: Bank/Account Reconciliation Aug 2026
C3: Bank Statements as at end Aug 2026
C4: Current Account (+) | D4: 51687.64
C5: Total (=) | D5: =SUM(D4:D4) -> 51687.64
C6: Outstanding Payment
C7: Total (=) | D7: =SUM(D5-D6) -> 51687.64
C9: * Cheques to be cashed
C10: Payee | D10: Cheque | E10: Description | F10: Total
F17: =SUM(F11:F16) -> 0
C19: Accounts as at end of Aug 2026
C20: Opening Balance | D20: 53518.28
C21: Total Income (+) | D21: 0
C22: Total Expenditure (-) | D22: 1830.64
C23: Total | D23: =SUM(D20:D21)-D22 -> 51687.64
C25: DIFFERENCE | D25: =SUM(D23-D7) -> 0
C30: …………………………………..
C31: Signature Chairman
C33: Date …………………………..

Sheet Internal Audit
A1: To be provided at end of Financial Year

Sheet External Audit
A1: To be provided at end of Financial Year

Sheet VAT Claim
A1: GREAT HOUGHTON PARISH COUNCIL | D1: REF
A2: VALUE ADDED TAX - INVOICE DETAILS | D2: CLAIM 01/04/2018 TO 31/03/2019
A4: Date of | B4: Suppliers VAT | C4: Brief description | D4: To whom addressed | E4: VAT
A5: Supply | B5: registration number | C5: of supply | E5: paid
A6: 43178 | B6: 987543757 | C6: Website Development | D6: GHPC | E6: 60.75
A7: 43200 | B7: 927129222 | C7: Net Hosting | D7: GHPC | E7: 11.98
A8: 43263 | B8: 280335711 | C8: Repairs to Fence | D8: GHPC | E8: 84
A9: 43291 | B9: 987543757 | C9: Website Development | D9: GHPC | E9: 36
A10: 43346 | B10: 440498250 | C10: Audit | D10: GHPC | E10: 40
A11: 43444 | B11: 125677259 | C11: Clock Service | D11: GHPC | E11: 41.2
A12: 43473 | B12: 927129222 | C12: Net Hosting | D12: GHPC | E12: 2
A13: 43476 | B13: 135939387 | C13: signs | D13: GHPC | E13: 19.58
A14: 43481 | B14: 105540018 | C14: Signs | D14: GHPC | E14: 11.16
A15: 43493 | B15: 895296854 | C15: roof light | D15: GHPC | E15: 6.4
A16: 43498 | B16: 135939387 | C16: signs | D16: GHPC | E16: 8.73
C19: TOTAL | E19: =SUM(E6:E16) -> 321.8
A21: CLAIM MADE | B21: 43626
A22: REFUND RECEIVED | B22: 43663

Sheet Sheet1
